BEGIN:VCALENDAR
VERSION:2.0
PRODID:-//All State Flagging - ECPv6.15.20//NONSGML v1.0//EN
CALSCALE:GREGORIAN
METHOD:PUBLISH
X-ORIGINAL-URL:https://allstateflagging.com
X-WR-CALDESC:Events for All State Flagging
REFRESH-INTERVAL;VALUE=DURATION:PT1H
X-Robots-Tag:noindex
X-PUBLISHED-TTL:PT1H
BEGIN:VTIMEZONE
TZID:America/New_York
BEGIN:DAYLIGHT
TZOFFSETFROM:-0500
TZOFFSETTO:-0400
TZNAME:EDT
DTSTART:20250309T070000
END:DAYLIGHT
BEGIN:STANDARD
TZOFFSETFROM:-0400
TZOFFSETTO:-0500
TZNAME:EST
DTSTART:20251102T060000
END:STANDARD
BEGIN:DAYLIGHT
TZOFFSETFROM:-0500
TZOFFSETTO:-0400
TZNAME:EDT
DTSTART:20260308T070000
END:DAYLIGHT
BEGIN:STANDARD
TZOFFSETFROM:-0400
TZOFFSETTO:-0500
TZNAME:EST
DTSTART:20261101T060000
END:STANDARD
BEGIN:DAYLIGHT
TZOFFSETFROM:-0500
TZOFFSETTO:-0400
TZNAME:EDT
DTSTART:20270314T070000
END:DAYLIGHT
BEGIN:STANDARD
TZOFFSETFROM:-0400
TZOFFSETTO:-0500
TZNAME:EST
DTSTART:20271107T060000
END:STANDARD
END:VTIMEZONE
BEGIN:VEVENT
DTSTART;TZID=America/New_York:20260608T180000
DTEND;TZID=America/New_York:20260608T220000
DTSTAMP:20260421T004927
CREATED:20260418T195337Z
LAST-MODIFIED:20260418T195337Z
UID:10000077-1780941600-1780956000@allstateflagging.com
SUMMARY:National ATSSA Flagger Certification Course-Willimantic\, CT Monday June 8th\, 6pm to 10pm
DESCRIPTION:This class is to become a ATSSA  Certified Flagger. This course will allow you to work for construction companies in the state of CT\, RI\, NH\, and NY.  ATSSA is the American Traffic Safety Services Association. All State Flagging Academy is a recognized MA DOT trainer.  For more information\, email info@allstateflagging.com or call 413-313-3485. The class is limited to 20 students.  First Aid Cards can be obtained through the American Red Cross online.  https://www.redcross.org/take-a-class/cart/checkout#latitude=42.1070383&longitude=-72.6203675&searchtype=class&zip=west+springfield%2C+ma&start=7&cgid=online-safety-classes \n  \nLocation is WIllimantic Elks- 198 Pleasant St\, WIllimantic CT \n  \n  \n********************************************************WE are hiring!*************** \nNO WALK-INS ALLOWED
URL:https://allstateflagging.com/event/national-atssa-flagger-certification-course-willimantic-ct-monday-june-8th-6pm-to-10pm/
LOCATION:Willimantic Elks\, 198 Pleasant St ·\, Willimantic\, CT\, 06226\, United States
ATTACH;FMTTYPE=image/jpeg:https://allstateflagging.com/wp-content/uploads/sites/14/2026/04/Willimantic-Elks.jpg
ORGANIZER;CN="All State Flagging Academy":MAILTO:info@allstateflagging.com
END:VEVENT
END:VCALENDAR