BEGIN:VCALENDAR
VERSION:2.0
PRODID:-//All State Flagging - ECPv6.15.20//NONSGML v1.0//EN
CALSCALE:GREGORIAN
METHOD:PUBLISH
X-WR-CALNAME:All State Flagging
X-ORIGINAL-URL:https://allstateflagging.com
X-WR-CALDESC:Events for All State Flagging
REFRESH-INTERVAL;VALUE=DURATION:PT1H
X-Robots-Tag:noindex
X-PUBLISHED-TTL:PT1H
BEGIN:VTIMEZONE
TZID:America/New_York
BEGIN:DAYLIGHT
TZOFFSETFROM:-0500
TZOFFSETTO:-0400
TZNAME:EDT
DTSTART:20230312T070000
END:DAYLIGHT
BEGIN:STANDARD
TZOFFSETFROM:-0400
TZOFFSETTO:-0500
TZNAME:EST
DTSTART:20231105T060000
END:STANDARD
BEGIN:DAYLIGHT
TZOFFSETFROM:-0500
TZOFFSETTO:-0400
TZNAME:EDT
DTSTART:20240310T070000
END:DAYLIGHT
BEGIN:STANDARD
TZOFFSETFROM:-0400
TZOFFSETTO:-0500
TZNAME:EST
DTSTART:20241103T060000
END:STANDARD
BEGIN:DAYLIGHT
TZOFFSETFROM:-0500
TZOFFSETTO:-0400
TZNAME:EDT
DTSTART:20250309T070000
END:DAYLIGHT
BEGIN:STANDARD
TZOFFSETFROM:-0400
TZOFFSETTO:-0500
TZNAME:EST
DTSTART:20251102T060000
END:STANDARD
END:VTIMEZONE
BEGIN:VEVENT
DTSTART;TZID=America/New_York:20240820T180000
DTEND;TZID=America/New_York:20240820T220000
DTSTAMP:20260421T150320
CREATED:20240817T161032Z
LAST-MODIFIED:20240817T161032Z
UID:10000015-1724176800-1724191200@allstateflagging.com
SUMMARY:MA ATSSA Flagger Certification Course-Holyoke\, MA August 20th
DESCRIPTION:This class is to become a ATSSA MA Certified Flagger. This course will allow you to work for construction companies in the state of MA. ATSSA is the American Traffic Safety Services Association. All State Flagging Academy is a recognized MA DOT trainer.  All students must have a CPR card or First Aid Card to complete the class. For more information\, email info@allstateflagging.com or call 413-313-3485. The class is limited to 20 students.  First Aid Cards can be obtained through the American Red Cross online.  https://www.redcross.org/take-a-class/cart/checkout#latitude=42.1070383&longitude=-72.6203675&searchtype=class&zip=west+springfield%2C+ma&start=7&cgid=online-safety-classes \n This course does not allow you to direct traffic and does NOT certify anyone to become a “Traffic Control Officer”.    Pursuant to 700 C.M.R 6.00 and MUTCD 6E.07\,  only Police Officers(POST certified and sworn) can direct traffic\, Flaggers control it with a Stop/Slow Paddle. \nLocation is 12 Crescent St\, Holyoke\, 01040 \nNO WALK-INS ALLOWED
URL:https://allstateflagging.com/event/ma-atssa-flagger-certification-course-holyoke-ma-august-20th-2/
LOCATION:HYANNIS ELKS LODGE  852 Bearses Way\, Hyannis\, MA 02601\, 12 Crescent St\, Holyoke\, 01040\, United States
ATTACH;FMTTYPE=image/jpeg:https://allstateflagging.com/wp-content/uploads/sites/14/2024/07/Holyoke-AUGUST-20TH.jpg
ORGANIZER;CN="All State Flagging Academy":MAILTO:info@allstateflagging.com
END:VEVENT
BEGIN:VEVENT
DTSTART;TZID=America/New_York:20240820T180000
DTEND;TZID=America/New_York:20240820T220000
DTSTAMP:20260421T150320
CREATED:20240726T122801Z
LAST-MODIFIED:20240806T142949Z
UID:10000014-1724176800-1724191200@allstateflagging.com
SUMMARY:MA ATSSA Flagger Certification Course-Holyoke\, MA August 20th
DESCRIPTION:This class is to become a ATSSA MA Certified Flagger. This course will allow you to work for construction companies in the state of MA. ATSSA is the American Traffic Safety Services Association. All State Flagging Academy is a recognized MA DOT trainer.  All students must have a CPR card or First Aid Card to complete the class. For more information\, email info@allstateflagging.com or call 413-313-3485. The class is limited to 20 students.  First Aid Cards can be obtained through the American Red Cross online.  https://www.redcross.org/take-a-class/cart/checkout#latitude=42.1070383&longitude=-72.6203675&searchtype=class&zip=west+springfield%2C+ma&start=7&cgid=online-safety-classes \n This course does not allow you to direct traffic and does NOT certify anyone to become a “Traffic Control Officer”.    Pursuant to 700 C.M.R 6.00 and MUTCD 6E.07\,  only Police Officers(POST certified and sworn) can direct traffic\, Flaggers control it with a Stop/Slow Paddle. \nLocation is 12 Crescent St\, Holyoke\, 01040 \nNO WALK-INS ALLOWED
URL:https://allstateflagging.com/event/ma-atssa-flagger-certification-course-holyoke-ma-august-20th/
LOCATION:HYANNIS ELKS LODGE  852 Bearses Way\, Hyannis\, MA 02601\, 12 Crescent St\, Holyoke\, 01040\, United States
ATTACH;FMTTYPE=image/jpeg:https://allstateflagging.com/wp-content/uploads/sites/14/2024/07/Holyoke-AUGUST-20TH.jpg
ORGANIZER;CN="All State Flagging Academy":MAILTO:info@allstateflagging.com
END:VEVENT
BEGIN:VEVENT
DTSTART;TZID=America/New_York:20240402T180000
DTEND;TZID=America/New_York:20240402T220000
DTSTAMP:20260421T150320
CREATED:20240318T140728Z
LAST-MODIFIED:20240318T140728Z
UID:10000004-1712080800-1712095200@allstateflagging.com
SUMMARY:MA ATSSA Flagger Certification Course-Holyoke\, MA
DESCRIPTION:This class is to become a ATSSA MA Certified Flagger. This course will allow you to work for construction companies in the state of MA. ATSSA is the American Traffic Safety Services Association. All State Flagging Academy is a recognized MA DOT trainer.  All students must have a CPR card or First Aid Card to complete the class. For more information\, email info@allstateflagging.com or call 413-313-3485. The class is limited to 30 students.  First Aid Cards can be obtained through the American Red Cross online.  https://www.redcross.org/take-a-class/cart/checkout#latitude=42.1070383&longitude=-72.6203675&searchtype=class&zip=west+springfield%2C+ma&start=7&cgid=online-safety-classes \nLocation is 12 Crescent St\, Holyoke\, 01040 \nNO WALK-INS ALLOWED
URL:https://allstateflagging.com/event/ma-atssa-flagger-certification-course-holyoke-ma/
LOCATION:HYANNIS ELKS LODGE  852 Bearses Way\, Hyannis\, MA 02601\, 12 Crescent St\, Holyoke\, 01040\, United States
ORGANIZER;CN="All State Flagging Academy":MAILTO:info@allstateflagging.com
END:VEVENT
END:VCALENDAR